BEGIN:VCALENDAR
VERSION:2.0
PRODID:-//411.ForMinot //NONSGML Events //EN
CALSCALE:GREGORIAN
X-WR-CALNAME:411.ForMinot
BEGIN:VEVENT
CREATED:20260413T145640Z
UID:1982
DTSTART;VALUE=DATE:20260424T000000
DTSTAMP:20260424T095106Z
LOCATION:118 1st Avenue Southeast\, Minot North Dakota
SUMMARY:Northern Destiny
ORGANIZER:Blue Rider
URL;VALUE=URI:http://411.forminot.com/happening/northern-destiny-1982/
TRANSP:OPAQUE
END:VEVENT
END:VCALENDAR
