BEGIN:VCALENDAR
VERSION:2.0
PRODID:-//411.ForMinot //NONSGML Events //EN
CALSCALE:GREGORIAN
X-WR-CALNAME:411.ForMinot
BEGIN:VEVENT
CREATED:20260415T160048Z
UID:1984
DTSTART;VALUE=DATE:20260422T000000
DTSTAMP:20260422T122504Z
LOCATION:510 Central Avenue East\, Minot North Dakota
SUMMARY:Take Out Tuesday!
ORGANIZER:Atypical Brewery &amp\; Barrelworks
URL;VALUE=URI:http://411.forminot.com/happening/take-out-tuesday-3-1984/
TRANSP:OPAQUE
END:VEVENT
END:VCALENDAR
