BEGIN:VCALENDAR
VERSION:2.0
PRODID:-//411.ForMinot //NONSGML Events //EN
CALSCALE:GREGORIAN
X-WR-CALNAME:411.ForMinot
BEGIN:VEVENT
CREATED:20260416T190312Z
UID:1988
DTSTART;VALUE=DATE:20260613T210000
DTSTAMP:20260424T112325Z
LOCATION:118 1st Avenue Southeast\, Minot North Dakota
SUMMARY:Savanah Benz
ORGANIZER:Blue Rider
URL;VALUE=URI:http://411.forminot.com/happening/savanah-benz-1988/
TRANSP:OPAQUE
END:VEVENT
END:VCALENDAR
