BEGIN:VCALENDAR
VERSION:2.0
PRODID:-//411.ForMinot //NONSGML Events //EN
CALSCALE:GREGORIAN
X-WR-CALNAME:411.ForMinot
BEGIN:VEVENT
CREATED:20260417T175856Z
UID:1995
DTSTART;VALUE=DATE:20260430T000000
DTSTAMP:20260420T081351Z
LOCATION:510 Central Avenue East\, Minot North Dakota
SUMMARY:Trivia Night!
ORGANIZER:Atypical Brewery &amp\; Barrelworks
URL;VALUE=URI:http://411.forminot.com/happening/trivia-night-3-1995/
TRANSP:OPAQUE
END:VEVENT
END:VCALENDAR
