BEGIN:VCALENDAR
VERSION:2.0
PRODID:-//411.ForMinot //NONSGML Events //EN
CALSCALE:GREGORIAN
X-WR-CALNAME:411.ForMinot
BEGIN:VEVENT
CREATED:20260417T175918Z
UID:1996
DTSTART;VALUE=DATE:20260423T000000
DTSTAMP:20260424T095105Z
LOCATION:118 1st Avenue Southeast\, Minot North Dakota
SUMMARY:Nacho Average Thursday!
ORGANIZER:Blue Rider
URL;VALUE=URI:http://411.forminot.com/happening/nacho-average-thursday-3-1996/
TRANSP:OPAQUE
END:VEVENT
END:VCALENDAR
