BEGIN:VCALENDAR
VERSION:2.0
PRODID:-//411.ForMinot //NONSGML Events //EN
CALSCALE:GREGORIAN
X-WR-CALNAME:411.ForMinot
BEGIN:VEVENT
CREATED:20260421T221503Z
UID:2008
DTSTART;VALUE=DATE:20260427T190000
DTSTAMP:20260424T112141Z
LOCATION:118 1st Avenue Southeast\, Minot North Dakota
SUMMARY:Mere Mortal Monday Trivia & Industry Night
ORGANIZER:Blue Rider
URL;VALUE=URI:http://411.forminot.com/happening/mere-mortal-monday-trivia-industry-night-2008/
TRANSP:OPAQUE
END:VEVENT
END:VCALENDAR
