BEGIN:VCALENDAR
VERSION:2.0
PRODID:-//411.ForMinot //NONSGML Events //EN
CALSCALE:GREGORIAN
X-WR-CALNAME:411.ForMinot
BEGIN:VEVENT
CREATED:20260422T160407Z
UID:2012
DTSTART;VALUE=DATE:20260428T000000
DTSTAMP:20260424T141746Z
LOCATION:118 1st Avenue Southeast\, Minot North Dakota
SUMMARY:Hamm’s & Grilled Cheese (w/Tomato Bisque Reduction): 6$
ORGANIZER:Blue Rider
URL;VALUE=URI:http://411.forminot.com/happening/hamms-grilled-cheese-w-tomato-bisque-reduction-6-4-2012/
TRANSP:OPAQUE
END:VEVENT
END:VCALENDAR
